BEGIN:VCALENDAR
VERSION:2.0
PRODID:-//eventon.com NONSGML v1.0//EN
BEGIN:VEVENT
UID:69e74f2b7febe
DTSTAMP:20260421T051923
DTSTART:20201115T050000Z
DTEND:20201116T045900Z
LOCATION:
SUMMARY:Día mundial del aire puro
DESCRIPTION: Noviembre 19: Día mundial del aire puro &nbsp;
END:VEVENT
END:VCALENDAR