BEGIN:VCALENDAR
VERSION:2.0
PRODID:-//eventon.com NONSGML v1.0//EN
BEGIN:VEVENT
UID:69ec3e2a4df99
DTSTAMP:20260424T230810
DTSTART:20220310T183000Z
DTEND:20220310T200000Z
LOCATION:
SUMMARY:Cambios politica SGI- Implementación PTEE
DESCRIPTION: Cambios politica SGI- Implementación PTEE
END:VEVENT
END:VCALENDAR