BEGIN:VCALENDAR
VERSION:2.0
PRODID:-//eventon.com NONSGML v1.0//EN
BEGIN:VEVENT
UID:69e4cf8100503
DTSTAMP:20260419T075009
DTSTART:20241009T150000Z
DTEND:20241009T160000Z
LOCATION:
SUMMARY:Capacitación Manejo y Clasificación de Residuos (GAM)
DESCRIPTION: Capacitación Manejo y Clasificación de Residuos (GAM)
END:VEVENT
END:VCALENDAR